############################################################################## ############################################################################## ### ### Running command: ### ### /Library/Frameworks/R.framework/Resources/bin/R CMD build --keep-empty-dirs --no-resave-data ReportingTools ### ############################################################################## ############################################################################## * checking for file ‘ReportingTools/DESCRIPTION’ ... OK * preparing ‘ReportingTools’: * checking DESCRIPTION meta-information ... OK * installing the package to build vignettes ----------------------------------- ERROR: dependencies ‘Category’, ‘GOstats’, ‘edgeR’, ‘DESeq2’, ‘ggbio’ are not available for package ‘ReportingTools’ * removing ‘/private/tmp/RtmpUb7Srh/Rinst453a767f7647/ReportingTools’ ----------------------------------- ERROR: package installation failed