Package: RegEnrich Version: 1.8.0 Command: F:\biocbuild\bbs-3.16-bioc\R\bin\R.exe CMD check --no-multiarch --install=check:RegEnrich.install-out.txt --library=F:\biocbuild\bbs-3.16-bioc\R\library --no-vignettes --timings RegEnrich_1.8.0.tar.gz StartedAt: 2023-04-11 05:05:27 -0400 (Tue, 11 Apr 2023) EndedAt: 2023-04-11 05:10:48 -0400 (Tue, 11 Apr 2023) EllapsedTime: 320.5 seconds RetCode: 0 Status: OK CheckDir: RegEnrich.Rcheck Warnings: 0