Package: RegEnrich Version: 1.8.0 Command: chmod a+r RegEnrich -R && F:\biocbuild\bbs-3.16-bioc\R\bin\R.exe CMD build --keep-empty-dirs --no-resave-data RegEnrich StartedAt: 2023-04-10 21:01:10 -0400 (Mon, 10 Apr 2023) EndedAt: 2023-04-10 21:06:09 -0400 (Mon, 10 Apr 2023) EllapsedTime: 298.9 seconds RetCode: 0 Status: OK PackageFile: RegEnrich_1.8.0.tar.gz PackageFileSize: 1.136 MiB