Package: RegEnrich Version: 1.8.0 Command: /Library/Frameworks/R.framework/Resources/bin/R CMD check --install=check:RegEnrich.install-out.txt --library=/Library/Frameworks/R.framework/Resources/library --no-vignettes --timings RegEnrich_1.8.0.tar.gz StartedAt: 2023-04-10 22:09:45 -0400 (Mon, 10 Apr 2023) EndedAt: 2023-04-10 22:13:56 -0400 (Mon, 10 Apr 2023) EllapsedTime: 250.5 seconds RetCode: 0 Status: OK CheckDir: RegEnrich.Rcheck Warnings: 0