Package: ReadqPCR Version: 1.44.0 Command: rm -rf ReadqPCR.buildbin-libdir && mkdir ReadqPCR.buildbin-libdir && /Users/biocbuild/BBS/utils/build-universal.sh ReadqPCR_1.44.0.tar.gz /Library/Frameworks/R.framework/Resources/bin/R ReadqPCR.buildbin-libdir StartedAt: 2023-04-10 23:59:36 -0400 (Mon, 10 Apr 2023) EndedAt: 2023-04-10 23:59:42 -0400 (Mon, 10 Apr 2023) EllapsedTime: 5.6 seconds RetCode: 0 Status: OK PackageFile: ReadqPCR_1.44.0.tgz PackageFileSize: 566.4 KiB