Package: ReadqPCR Version: 1.43.0 Command: /Library/Frameworks/R.framework/Resources/bin/R CMD build --keep-empty-dirs --no-resave-data ReadqPCR StartedAt: 2022-07-07 03:21:00 -0400 (Thu, 07 Jul 2022) EndedAt: 2022-07-07 03:21:11 -0400 (Thu, 07 Jul 2022) EllapsedTime: 11.8 seconds RetCode: 0 Status: OK PackageFile: ReadqPCR_1.43.0.tar.gz PackageFileSize: 489.8 KiB