Package: ReactomeContentService4R Version: 1.6.0 Command: rm -rf ReactomeContentService4R.buildbin-libdir && mkdir ReactomeContentService4R.buildbin-libdir && /Users/biocbuild/BBS/utils/build-universal.sh ReactomeContentService4R_1.6.0.tar.gz /Library/Frameworks/R.framework/Resources/bin/R ReactomeContentService4R.buildbin-libdir StartedAt: 2023-04-10 23:59:33 -0400 (Mon, 10 Apr 2023) EndedAt: 2023-04-10 23:59:45 -0400 (Mon, 10 Apr 2023) EllapsedTime: 12.3 seconds RetCode: 0 Status: OK PackageFile: ReactomeContentService4R_1.6.0.tgz PackageFileSize: 1.139 MiB