Package: RcisTarget Version: 1.18.2 Command: /home/biocbuild/bbs-3.16-bioc/R/bin/R CMD check --install=check:RcisTarget.install-out.txt --library=/home/biocbuild/bbs-3.16-bioc/R/site-library --timings RcisTarget_1.18.2.tar.gz StartedAt: 2023-04-10 23:18:04 -0400 (Mon, 10 Apr 2023) EndedAt: 2023-04-10 23:25:00 -0400 (Mon, 10 Apr 2023) EllapsedTime: 416.3 seconds RetCode: 0 Status: OK CheckDir: RcisTarget.Rcheck Warnings: 0