Package: RankProd Version: 3.23.0 Command: /Library/Frameworks/R.framework/Resources/bin/R CMD INSTALL RankProd StartedAt: 2022-07-10 15:13:31 -0400 (Sun, 10 Jul 2022) EndedAt: 2022-07-10 15:13:39 -0400 (Sun, 10 Jul 2022) EllapsedTime: 7.5 seconds RetCode: 0 Status: OK