Package: RandomWalkRestartMH Version: 1.18.0 Command: /home/biocbuild/bbs-3.16-bioc/R/bin/R CMD build --keep-empty-dirs --no-resave-data RandomWalkRestartMH StartedAt: 2023-04-10 17:53:29 -0400 (Mon, 10 Apr 2023) EndedAt: 2023-04-10 17:55:25 -0400 (Mon, 10 Apr 2023) EllapsedTime: 115.6 seconds RetCode: 0 Status: OK PackageFile: RandomWalkRestartMH_1.18.0.tar.gz PackageFileSize: 6.586 MiB