Package: RandomWalkRestartMH Version: 1.18.0 Command: rm -rf RandomWalkRestartMH.buildbin-libdir && mkdir RandomWalkRestartMH.buildbin-libdir && /Users/biocbuild/BBS/utils/build-universal.sh RandomWalkRestartMH_1.18.0.tar.gz /Library/Frameworks/R.framework/Resources/bin/R RandomWalkRestartMH.buildbin-libdir StartedAt: 2023-04-10 23:58:59 -0400 (Mon, 10 Apr 2023) EndedAt: 2023-04-10 23:59:14 -0400 (Mon, 10 Apr 2023) EllapsedTime: 14.9 seconds RetCode: 0 Status: OK PackageFile: RandomWalkRestartMH_1.18.0.tgz PackageFileSize: 2.852 MiB