Package: RandomWalkRestartMH Version: 1.17.0 Command: /Library/Frameworks/R.framework/Resources/bin/R CMD INSTALL RandomWalkRestartMH StartedAt: 2022-07-10 19:02:15 -0400 (Sun, 10 Jul 2022) EndedAt: 2022-07-10 19:02:34 -0400 (Sun, 10 Jul 2022) EllapsedTime: 19.0 seconds RetCode: 0 Status: OK