Package: RUVcorr Version: 1.30.0 Command: /home/biocbuild/bbs-3.16-bioc/R/bin/R CMD INSTALL RUVcorr StartedAt: 2023-04-10 15:18:07 -0400 (Mon, 10 Apr 2023) EndedAt: 2023-04-10 15:18:13 -0400 (Mon, 10 Apr 2023) EllapsedTime: 5.7 seconds RetCode: 0 Status: OK