Package: RUVcorr Version: 1.30.0 Command: /Library/Frameworks/R.framework/Resources/bin/R CMD check --install=check:RUVcorr.install-out.txt --library=/Library/Frameworks/R.framework/Resources/library --no-vignettes --timings RUVcorr_1.30.0.tar.gz StartedAt: 2023-04-10 22:24:10 -0400 (Mon, 10 Apr 2023) EndedAt: 2023-04-10 22:24:58 -0400 (Mon, 10 Apr 2023) EllapsedTime: 48.0 seconds RetCode: 0 Status: WARNINGS CheckDir: RUVcorr.Rcheck Warnings: 1