Package: RUVcorr Version: 1.29.0 Command: /Library/Frameworks/R.framework/Resources/bin/R CMD INSTALL RUVcorr StartedAt: 2022-07-10 16:51:15 -0400 (Sun, 10 Jul 2022) EndedAt: 2022-07-10 16:51:23 -0400 (Sun, 10 Jul 2022) EllapsedTime: 8.7 seconds RetCode: 0 Status: OK