Package: RUVcorr Version: 1.29.0 Command: rm -rf RUVcorr.buildbin-libdir && mkdir RUVcorr.buildbin-libdir && /Users/biocbuild/BBS/utils/build-universal.sh RUVcorr_1.29.0.tar.gz /Library/Frameworks/R.framework/Resources/bin/R RUVcorr.buildbin-libdir StartedAt: 2022-07-07 09:01:18 -0400 (Thu, 07 Jul 2022) EndedAt: 2022-07-07 09:01:29 -0400 (Thu, 07 Jul 2022) EllapsedTime: 11.2 seconds RetCode: 0 Status: OK PackageFile: RUVcorr_1.29.0.tgz PackageFileSize: 606.7 KiB