Package: RProtoBufLib Version: 2.10.0 Command: F:\biocbuild\bbs-3.16-bioc\R\bin\R.exe CMD check --no-multiarch --install=check:RProtoBufLib.install-out.txt --library=F:\biocbuild\bbs-3.16-bioc\R\library --no-vignettes --timings RProtoBufLib_2.10.0.tar.gz StartedAt: 2023-04-11 05:26:44 -0400 (Tue, 11 Apr 2023) EndedAt: 2023-04-11 05:27:15 -0400 (Tue, 11 Apr 2023) EllapsedTime: 30.3 seconds RetCode: 0 Status: OK CheckDir: RProtoBufLib.Rcheck Warnings: 0