Package: ROTS Version: 1.26.0 Command: chmod a+r ROTS -R && F:\biocbuild\bbs-3.16-bioc\R\bin\R.exe CMD build --keep-empty-dirs --no-resave-data ROTS StartedAt: 2023-04-10 21:13:57 -0400 (Mon, 10 Apr 2023) EndedAt: 2023-04-10 21:14:27 -0400 (Mon, 10 Apr 2023) EllapsedTime: 30.9 seconds RetCode: 0 Status: OK PackageFile: ROTS_1.26.0.tar.gz PackageFileSize: 316.5 KiB