Package: RNAmodR.RiboMethSeq Version: 1.12.0 Command: /home/biocbuild/bbs-3.16-bioc/R/bin/R CMD check --install=check:RNAmodR.RiboMethSeq.install-out.txt --library=/home/biocbuild/bbs-3.16-bioc/R/site-library --timings RNAmodR.RiboMethSeq_1.12.0.tar.gz StartedAt: 2023-04-10 23:31:03 -0400 (Mon, 10 Apr 2023) EndedAt: 2023-04-10 23:38:49 -0400 (Mon, 10 Apr 2023) EllapsedTime: 466.1 seconds RetCode: 0 Status: OK CheckDir: RNAmodR.RiboMethSeq.Rcheck Warnings: 0