Package: RNAmodR.RiboMethSeq Version: 1.12.0 Command: /Library/Frameworks/R.framework/Resources/bin/R CMD build --keep-empty-dirs --no-resave-data RNAmodR.RiboMethSeq StartedAt: 2023-04-10 17:47:20 -0400 (Mon, 10 Apr 2023) EndedAt: 2023-04-10 17:49:00 -0400 (Mon, 10 Apr 2023) EllapsedTime: 100.5 seconds RetCode: 0 Status: OK PackageFile: RNAmodR.RiboMethSeq_1.12.0.tar.gz PackageFileSize: 572.2 KiB