Package: RNAmodR.RiboMethSeq Version: 1.12.0 Command: rm -rf RNAmodR.RiboMethSeq.buildbin-libdir && mkdir RNAmodR.RiboMethSeq.buildbin-libdir && /Users/biocbuild/BBS/utils/build-universal.sh RNAmodR.RiboMethSeq_1.12.0.tar.gz /Library/Frameworks/R.framework/Resources/bin/R RNAmodR.RiboMethSeq.buildbin-libdir StartedAt: 2023-04-11 00:01:23 -0400 (Tue, 11 Apr 2023) EndedAt: 2023-04-11 00:02:33 -0400 (Tue, 11 Apr 2023) EllapsedTime: 70.0 seconds RetCode: 0 Status: OK PackageFile: RNAmodR.RiboMethSeq_1.12.0.tgz PackageFileSize: 650.1 KiB