Package: RNAmodR.ML Version: 1.12.0 Command: rm -rf RNAmodR.ML.buildbin-libdir && mkdir RNAmodR.ML.buildbin-libdir && /Users/biocbuild/BBS/utils/build-universal.sh RNAmodR.ML_1.12.0.tar.gz /Library/Frameworks/R.framework/Resources/bin/R RNAmodR.ML.buildbin-libdir StartedAt: 2023-04-11 00:01:22 -0400 (Tue, 11 Apr 2023) EndedAt: 2023-04-11 00:02:34 -0400 (Tue, 11 Apr 2023) EllapsedTime: 72.3 seconds RetCode: 0 Status: OK PackageFile: RNAmodR.ML_1.12.0.tgz PackageFileSize: 1.856 MiB