Package: RNAdecay Version: 1.18.0 Command: rm -rf RNAdecay.buildbin-libdir && mkdir RNAdecay.buildbin-libdir && /Users/biocbuild/BBS/utils/build-universal.sh RNAdecay_1.18.0.tar.gz /Library/Frameworks/R.framework/Resources/bin/R RNAdecay.buildbin-libdir StartedAt: 2023-04-11 00:01:08 -0400 (Tue, 11 Apr 2023) EndedAt: 2023-04-11 00:07:34 -0400 (Tue, 11 Apr 2023) EllapsedTime: 385.9 seconds RetCode: 0 Status: OK PackageFile: RNAdecay_1.18.0.tgz PackageFileSize: 5.371 MiB