Package: RLSeq Version: 1.4.1 Command: F:\biocbuild\bbs-3.16-bioc\R\bin\R.exe CMD INSTALL RLSeq StartedAt: 2023-04-10 16:48:32 -0400 (Mon, 10 Apr 2023) EndedAt: 2023-04-10 16:49:31 -0400 (Mon, 10 Apr 2023) EllapsedTime: 58.7 seconds RetCode: 0 Status: OK