Package: RLSeq Version: 1.4.1 Command: F:\biocbuild\bbs-3.16-bioc\R\bin\R.exe CMD check --no-multiarch --install=check:RLSeq.install-out.txt --library=F:\biocbuild\bbs-3.16-bioc\R\library --no-vignettes --timings RLSeq_1.4.1.tar.gz StartedAt: 2023-04-11 05:17:59 -0400 (Tue, 11 Apr 2023) EndedAt: 2023-04-11 05:31:46 -0400 (Tue, 11 Apr 2023) EllapsedTime: 827.2 seconds RetCode: 0 Status: OK CheckDir: RLSeq.Rcheck Warnings: 0