Package: RLSeq Version: 1.4.1 Command: /home/biocbuild/bbs-3.16-bioc/R/bin/R CMD build --keep-empty-dirs --no-resave-data RLSeq StartedAt: 2023-04-10 17:59:45 -0400 (Mon, 10 Apr 2023) EndedAt: 2023-04-10 18:03:01 -0400 (Mon, 10 Apr 2023) EllapsedTime: 196.2 seconds RetCode: 0 Status: OK PackageFile: RLSeq_1.4.1.tar.gz PackageFileSize: 2.592 MiB