Package: RLSeq Version: 1.4.1 Command: /Library/Frameworks/R.framework/Resources/bin/R CMD check --install=check:RLSeq.install-out.txt --library=/Library/Frameworks/R.framework/Resources/library --no-vignettes --timings RLSeq_1.4.1.tar.gz StartedAt: 2023-04-10 22:16:50 -0400 (Mon, 10 Apr 2023) EndedAt: 2023-04-10 22:29:14 -0400 (Mon, 10 Apr 2023) EllapsedTime: 743.5 seconds RetCode: 0 Status: OK CheckDir: RLSeq.Rcheck Warnings: 0