Package: RLSeq Version: 1.4.1 Command: /Library/Frameworks/R.framework/Resources/bin/R CMD build --keep-empty-dirs --no-resave-data RLSeq StartedAt: 2023-04-10 17:45:58 -0400 (Mon, 10 Apr 2023) EndedAt: 2023-04-10 17:50:26 -0400 (Mon, 10 Apr 2023) EllapsedTime: 268.0 seconds RetCode: 0 Status: OK PackageFile: RLSeq_1.4.1.tar.gz PackageFileSize: 2.589 MiB