Package: RLSeq Version: 1.4.1 Command: rm -rf RLSeq.buildbin-libdir && mkdir RLSeq.buildbin-libdir && /Users/biocbuild/BBS/utils/build-universal.sh RLSeq_1.4.1.tar.gz /Library/Frameworks/R.framework/Resources/bin/R RLSeq.buildbin-libdir StartedAt: 2023-04-11 00:01:00 -0400 (Tue, 11 Apr 2023) EndedAt: 2023-04-11 00:01:59 -0400 (Tue, 11 Apr 2023) EllapsedTime: 58.9 seconds RetCode: 0 Status: OK PackageFile: RLSeq_1.4.1.tgz PackageFileSize: 2.996 MiB