############################################################################## ############################################################################## ### ### Running command: ### ### /Library/Frameworks/R.framework/Resources/bin/R CMD build --keep-empty-dirs --no-resave-data RLSeq ### ############################################################################## ############################################################################## * checking for file ‘RLSeq/DESCRIPTION’ ... OK * preparing ‘RLSeq’: * checking DESCRIPTION meta-information ... OK * installing the package to build vignettes ----------------------------------- ERROR: dependencies ‘regioneR’, ‘GenomicFeatures’, ‘rtracklayer’ are not available for package ‘RLSeq’ * removing ‘/private/tmp/Rtmp1nCVvq/Rinstf1831731173b/RLSeq’ ----------------------------------- ERROR: package installation failed