Package: RGraph2js Version: 1.26.0 Command: /Library/Frameworks/R.framework/Resources/bin/R CMD check --install=check:RGraph2js.install-out.txt --library=/Library/Frameworks/R.framework/Resources/library --no-vignettes --timings RGraph2js_1.26.0.tar.gz StartedAt: 2023-04-10 22:13:43 -0400 (Mon, 10 Apr 2023) EndedAt: 2023-04-10 22:14:16 -0400 (Mon, 10 Apr 2023) EllapsedTime: 33.0 seconds RetCode: 0 Status: OK CheckDir: RGraph2js.Rcheck Warnings: 0