Package: RDRToolbox Version: 1.48.0 Command: /Library/Frameworks/R.framework/Resources/bin/R CMD check --install=check:RDRToolbox.install-out.txt --library=/Library/Frameworks/R.framework/Resources/library --no-vignettes --timings --no-examples RDRToolbox_1.48.0.tar.gz StartedAt: 2023-04-10 22:08:08 -0400 (Mon, 10 Apr 2023) EndedAt: 2023-04-10 22:08:36 -0400 (Mon, 10 Apr 2023) EllapsedTime: 27.3 seconds RetCode: 0 Status: OK CheckDir: RDRToolbox.Rcheck Warnings: 0