############################################################################## ############################################################################## ### ### Running command: ### ### /Library/Frameworks/R.framework/Resources/bin/R CMD INSTALL RDRToolbox ### ############################################################################## ############################################################################## * installing to library ‘/Library/Frameworks/R.framework/Versions/4.2-arm64/Resources/library’ * installing *source* package ‘RDRToolbox’ ... ** using staged installation ** R ** byte-compile and prepare package for lazy loading ERROR: lazy loading failed for package ‘RDRToolbox’ * removing ‘/Library/Frameworks/R.framework/Versions/4.2-arm64/Resources/library/RDRToolbox’