Package: RCM Version: 1.14.0 Command: /home/biocbuild/bbs-3.16-bioc/R/bin/R CMD INSTALL RCM StartedAt: 2023-04-10 15:26:42 -0400 (Mon, 10 Apr 2023) EndedAt: 2023-04-10 15:27:13 -0400 (Mon, 10 Apr 2023) EllapsedTime: 30.5 seconds RetCode: 0 Status: OK