Package: RCM Version: 1.14.0 Command: rm -rf RCM.buildbin-libdir && mkdir RCM.buildbin-libdir && /Users/biocbuild/BBS/utils/build-universal.sh RCM_1.14.0.tar.gz /Library/Frameworks/R.framework/Resources/bin/R RCM.buildbin-libdir StartedAt: 2023-04-10 23:59:15 -0400 (Mon, 10 Apr 2023) EndedAt: 2023-04-10 23:59:48 -0400 (Mon, 10 Apr 2023) EllapsedTime: 32.9 seconds RetCode: 0 Status: OK PackageFile: RCM_1.14.0.tgz PackageFileSize: 4.005 MiB