Package: RBioinf Version: 1.57.0 Command: /Library/Frameworks/R.framework/Resources/bin/R CMD INSTALL RBioinf StartedAt: 2022-07-10 15:23:30 -0400 (Sun, 10 Jul 2022) EndedAt: 2022-07-10 15:23:37 -0400 (Sun, 10 Jul 2022) EllapsedTime: 7.2 seconds RetCode: 0 Status: OK