Package: R3CPET Version: 1.30.0 Command: rm -rf R3CPET.buildbin-libdir && mkdir R3CPET.buildbin-libdir && /Users/biocbuild/BBS/utils/build-universal.sh R3CPET_1.30.0.tar.gz /Library/Frameworks/R.framework/Resources/bin/R R3CPET.buildbin-libdir StartedAt: 2023-04-10 23:58:46 -0400 (Mon, 10 Apr 2023) EndedAt: 2023-04-11 00:00:27 -0400 (Tue, 11 Apr 2023) EllapsedTime: 101.1 seconds RetCode: 0 Status: OK PackageFile: R3CPET_1.30.0.tgz PackageFileSize: 5.092 MiB