Package: QuartPAC Version: 1.30.0 Command: chmod a+r QuartPAC -R && F:\biocbuild\bbs-3.16-bioc\R\bin\R.exe CMD build --keep-empty-dirs --no-resave-data QuartPAC StartedAt: 2023-04-10 20:52:12 -0400 (Mon, 10 Apr 2023) EndedAt: 2023-04-10 20:53:19 -0400 (Mon, 10 Apr 2023) EllapsedTime: 67.0 seconds RetCode: 0 Status: OK PackageFile: QuartPAC_1.30.0.tar.gz PackageFileSize: 750.9 KiB