Package: QuartPAC Version: 1.30.0 Command: rm -rf QuartPAC.buildbin-libdir && mkdir QuartPAC.buildbin-libdir && /Users/biocbuild/BBS/utils/build-universal.sh QuartPAC_1.30.0.tar.gz /Library/Frameworks/R.framework/Resources/bin/R QuartPAC.buildbin-libdir StartedAt: 2023-04-10 23:58:37 -0400 (Mon, 10 Apr 2023) EndedAt: 2023-04-10 23:58:59 -0400 (Mon, 10 Apr 2023) EllapsedTime: 21.5 seconds RetCode: 0 Status: OK PackageFile: QuartPAC_1.30.0.tgz PackageFileSize: 644.1 KiB