Package: Qtlizer Version: 1.11.0 Command: rm -rf Qtlizer.buildbin-libdir && mkdir Qtlizer.buildbin-libdir && /Users/biocbuild/BBS/utils/build-universal.sh Qtlizer_1.11.0.tar.gz /Library/Frameworks/R.framework/Resources/bin/R Qtlizer.buildbin-libdir StartedAt: 2022-07-07 08:48:12 -0400 (Thu, 07 Jul 2022) EndedAt: 2022-07-07 08:48:17 -0400 (Thu, 07 Jul 2022) EllapsedTime: 5.5 seconds RetCode: 0 Status: OK PackageFile: Qtlizer_1.11.0.tgz PackageFileSize: 235.5 KiB