Package: QDNAseq Version: 1.34.0 Command: chmod a+r QDNAseq -R && F:\biocbuild\bbs-3.16-bioc\R\bin\R.exe CMD build --keep-empty-dirs --no-resave-data QDNAseq StartedAt: 2023-04-10 20:49:39 -0400 (Mon, 10 Apr 2023) EndedAt: 2023-04-10 20:54:55 -0400 (Mon, 10 Apr 2023) EllapsedTime: 315.7 seconds RetCode: 0 Status: OK PackageFile: QDNAseq_1.34.0.tar.gz PackageFileSize: 848.5 KiB