Package: QDNAseq Version: 1.34.0 Command: rm -rf QDNAseq.buildbin-libdir && mkdir QDNAseq.buildbin-libdir && F:\biocbuild\bbs-3.16-bioc\R\bin\R.exe CMD INSTALL --build --library=QDNAseq.buildbin-libdir QDNAseq_1.34.0.tar.gz StartedAt: 2023-04-11 08:33:16 -0400 (Tue, 11 Apr 2023) EndedAt: 2023-04-11 08:33:50 -0400 (Tue, 11 Apr 2023) EllapsedTime: 33.2 seconds RetCode: 0 Status: OK PackageFile: QDNAseq_1.34.0.zip PackageFileSize: 1.39 MiB