Package: QDNAseq Version: 1.34.0 Command: /home/biocbuild/bbs-3.16-bioc/R/bin/R CMD INSTALL QDNAseq StartedAt: 2023-04-10 15:31:30 -0400 (Mon, 10 Apr 2023) EndedAt: 2023-04-10 15:31:55 -0400 (Mon, 10 Apr 2023) EllapsedTime: 25.0 seconds RetCode: 0 Status: OK