Package: QDNAseq Version: 1.34.0 Command: /home/biocbuild/bbs-3.16-bioc/R/bin/R CMD check --install=check:QDNAseq.install-out.txt --library=/home/biocbuild/bbs-3.16-bioc/R/site-library --timings QDNAseq_1.34.0.tar.gz StartedAt: 2023-04-10 23:10:48 -0400 (Mon, 10 Apr 2023) EndedAt: 2023-04-10 23:18:04 -0400 (Mon, 10 Apr 2023) EllapsedTime: 435.9 seconds RetCode: 0 Status: OK CheckDir: QDNAseq.Rcheck Warnings: 0