Package: PoDCall Version: 1.5.0 Command: /Library/Frameworks/R.framework/Resources/bin/R CMD build --keep-empty-dirs --no-resave-data PoDCall StartedAt: 2022-07-07 02:19:59 -0400 (Thu, 07 Jul 2022) EndedAt: 2022-07-07 02:20:24 -0400 (Thu, 07 Jul 2022) EllapsedTime: 25.2 seconds RetCode: 0 Status: OK PackageFile: PoDCall_1.5.0.tar.gz PackageFileSize: 2.967 MiB