Package: Pi Version: 2.10.0 Command: /Library/Frameworks/R.framework/Resources/bin/R CMD check --install=check:Pi.install-out.txt --library=/Library/Frameworks/R.framework/Resources/library --no-vignettes --timings Pi_2.10.0.tar.gz StartedAt: 2023-04-10 21:51:31 -0400 (Mon, 10 Apr 2023) EndedAt: 2023-04-10 21:55:07 -0400 (Mon, 10 Apr 2023) EllapsedTime: 216.7 seconds RetCode: 0 Status: WARNINGS CheckDir: Pi.Rcheck Warnings: 2