Package: PhIPData Version: 1.6.0 Command: chmod a+r PhIPData -R && F:\biocbuild\bbs-3.16-bioc\R\bin\R.exe CMD build --keep-empty-dirs --no-resave-data PhIPData StartedAt: 2023-04-10 20:37:22 -0400 (Mon, 10 Apr 2023) EndedAt: 2023-04-10 20:38:15 -0400 (Mon, 10 Apr 2023) EllapsedTime: 52.9 seconds RetCode: 0 Status: OK PackageFile: PhIPData_1.6.0.tar.gz PackageFileSize: 820.9 KiB