Package: PROcess Version: 1.73.0 Command: /Library/Frameworks/R.framework/Resources/bin/R CMD INSTALL PROcess StartedAt: 2022-07-10 15:10:30 -0400 (Sun, 10 Jul 2022) EndedAt: 2022-07-10 15:10:39 -0400 (Sun, 10 Jul 2022) EllapsedTime: 9.8 seconds RetCode: 0 Status: OK