Package: PREDA Version: 1.44.0 Command: /home/biocbuild/bbs-3.16-bioc/R/bin/R CMD build --keep-empty-dirs --no-resave-data PREDA StartedAt: 2023-04-10 17:44:37 -0400 (Mon, 10 Apr 2023) EndedAt: 2023-04-10 17:47:56 -0400 (Mon, 10 Apr 2023) EllapsedTime: 199.6 seconds RetCode: 0 Status: OK PackageFile: PREDA_1.44.0.tar.gz PackageFileSize: 1.755 MiB