Package: PCAtools Version: 2.10.0 Command: /home/biocbuild/bbs-3.16-bioc/R/bin/R CMD build --keep-empty-dirs --no-resave-data PCAtools StartedAt: 2023-04-10 17:36:59 -0400 (Mon, 10 Apr 2023) EndedAt: 2023-04-10 17:42:34 -0400 (Mon, 10 Apr 2023) EllapsedTime: 334.5 seconds RetCode: 0 Status: OK PackageFile: PCAtools_2.10.0.tar.gz PackageFileSize: 9.957 MiB